BEGIN:VCALENDAR
VERSION:2.0
PRODID:-//Department of Chemical Engineering - ECPv6.15.20//NONSGML v1.0//EN
CALSCALE:GREGORIAN
METHOD:PUBLISH
X-ORIGINAL-URL:https://che.northeastern.edu
X-WR-CALDESC:Events for Department of Chemical Engineering
REFRESH-INTERVAL;VALUE=DURATION:PT1H
X-Robots-Tag:noindex
X-PUBLISHED-TTL:PT1H
BEGIN:VTIMEZONE
TZID:America/New_York
BEGIN:DAYLIGHT
TZOFFSETFROM:-0500
TZOFFSETTO:-0400
TZNAME:EDT
DTSTART:20240310T070000
END:DAYLIGHT
BEGIN:STANDARD
TZOFFSETFROM:-0400
TZOFFSETTO:-0500
TZNAME:EST
DTSTART:20241103T060000
END:STANDARD
BEGIN:DAYLIGHT
TZOFFSETFROM:-0500
TZOFFSETTO:-0400
TZNAME:EDT
DTSTART:20250309T070000
END:DAYLIGHT
BEGIN:STANDARD
TZOFFSETFROM:-0400
TZOFFSETTO:-0500
TZNAME:EST
DTSTART:20251102T060000
END:STANDARD
BEGIN:DAYLIGHT
TZOFFSETFROM:-0500
TZOFFSETTO:-0400
TZNAME:EDT
DTSTART:20260308T070000
END:DAYLIGHT
BEGIN:STANDARD
TZOFFSETFROM:-0400
TZOFFSETTO:-0500
TZNAME:EST
DTSTART:20261101T060000
END:STANDARD
END:VTIMEZONE
BEGIN:VEVENT
DTSTART;TZID=America/New_York:20251003T133000
DTEND;TZID=America/New_York:20251003T143000
DTSTAMP:20260425T231439
CREATED:20251003T234307Z
LAST-MODIFIED:20251003T234307Z
UID:5770-1759498200-1759501800@che.northeastern.edu
SUMMARY:Chemical Engineering Fall Seminar Series: Chaochao Dun
DESCRIPTION:Seminar Title: Fast-Track Materials Discovery Beyond Equilibrium for Energy and Sustainability \nLocation: Egan Center 306 \nAbstract: The development of stable multicomponent materials remains a central challenge in inorganic chemistry and chemical engineering. In systems containing multiple elements\, positive mixing enthalpy\, size and valence mismatch\, and structural incompatibility tend to drive phase separation\, especially under equilibrium conditions. Traditional doping strategies for tuning electronic structure and defect chemistry have had some success but are fundamentally constrained by narrow solid-solution windows. To address these limitations\, we developed a non-equilibrium flame synthesis technique capable of producing multicomponent solid solutions across alloys\, ceramics\, and metal-organic frameworks. This method enables rapid evaporation\, nucleation\, and growth within milliseconds\, establishing a well-defined thermodynamic and kinetic pathway for kinetically trapping metastable phases. When combined with entropy-driven stabilization\, this approach yields two types of material outcomes\, depending on the configurational entropy of the system: high-entropy systems with five or more elements tend to form stable single-phase solid solutions\, while systems with two to four components undergo controlled in situ exsolution in response to mild enthalpic stimuli. This unified strategy is broadly applicable to thermocatalysis\, electrocatalysis\, and critical mineral recovery\, and offers a robust framework for materials design beyond the limits of equilibrium-based methods. \n\n Dr. Chaochao Dun joined Lawrence Berkeley National Laboratory in June 2019 and currently serves as a project staff scientist at the Molecular Foundry. He earned his Ph.D. from the Center for Nanotechnology and Molecular Materials in the Physics Department at Wake Forest University in 2017. At Berkeley Lab\, Chaochao is leading three main research thrusts: (I) synthesizing multicomponent materials via non-equilibrium flame-aerosol method for energy conversion and storage; (II) designing sorbents and redox-active clusters for recovering critical minerals; and (III) mechanism-oriented studies that link defect chemistry and kinetics/thermodynamics to performance\, supported by multi-scale characterization.
URL:https://che.northeastern.edu/event/chemical-engineering-fall-seminar-series-chaochao-dun/
END:VEVENT
BEGIN:VEVENT
DTSTART;TZID=America/New_York:20251007T080000
DTEND;TZID=America/New_York:20251007T090000
DTSTAMP:20260425T231439
CREATED:20250917T000657Z
LAST-MODIFIED:20250917T000657Z
UID:5741-1759824000-1759827600@che.northeastern.edu
SUMMARY:Disciplinary Engineering Programs Co-op Overview
DESCRIPTION:During Wonder Week\, you’ll have the chance to learn how the top-ranked Graduate School of Engineering at Northeastern University combines rigorous academics with experiential learning and convergent research. Register for a variety of program-specific webinars throughout the week tailored to your career aspirations and get direct insights from faculty members and current students. Each session includes a 30-minute presentation followed by a Q&A session\, allowing you to directly connect with panelists and presenters. \nThis session will highlight our Disciplinary Engineering Programs Co-op Overview \nTuesday October 7th\, 2025 at 8:00AM ET
URL:https://che.northeastern.edu/event/disciplinary-engineering-programs-co-op-overview/
LOCATION:Virtual
ORGANIZER;CN="Graduate School of Engineering":MAILTO:coe-gradadmissions@northeastern.edu
END:VEVENT
BEGIN:VEVENT
DTSTART;TZID=America/New_York:20251007T090000
DTEND;TZID=America/New_York:20251007T100000
DTSTAMP:20260425T231439
CREATED:20250917T000519Z
LAST-MODIFIED:20250917T000519Z
UID:5737-1759827600-1759831200@che.northeastern.edu
SUMMARY:Chemical Engineering Program Overview
DESCRIPTION:During Wonder Week\, you’ll have the chance to learn how the top-ranked Graduate School of Engineering at Northeastern University combines rigorous academics with experiential learning and convergent research. Register for a variety of program-specific webinars throughout the week tailored to your career aspirations and get direct insights from faculty members and current students. Each session includes a 30-minute presentation followed by a Q&A session\, allowing you to directly connect with panelists and presenters. \nThis session will highlight our Chemical Engineering Department \nTuesday October 7th\, 2025 at 9:00 AM ET
URL:https://che.northeastern.edu/event/chemical-engineering-program-overview/
LOCATION:Virtual
ORGANIZER;CN="Graduate School of Engineering":MAILTO:coe-gradadmissions@northeastern.edu
END:VEVENT
BEGIN:VEVENT
DTSTART;TZID=America/New_York:20251008T120000
DTEND;TZID=America/New_York:20251008T130000
DTSTAMP:20260425T231439
CREATED:20250917T003230Z
LAST-MODIFIED:20251003T233125Z
UID:5743-1759924800-1759928400@che.northeastern.edu
SUMMARY:Chemical Engineering Fall Seminar Series: Vincent G. Harris
DESCRIPTION:Seminar Title: Academic Scholarship vs. Entrepreneurship: Research choices in pursuing a career in academia at Northeastern \nLocation: 108 Snell Engineering Center \nAbstract: Success as a faculty member at a Tier 1 research university—fair or unfair—still depends heavily on securing research funding and producing independent\, high-quality scholarship with those resources. Yet\, over the past two decades\, there has been a profound shift in how faculty contributions are evaluated\, with increasing recognition of entrepreneurship as an important dimension of academic impact. \nThis raises an important question: can one pursue academic research that satisfies both the rigorous standards of scholarship and the entrepreneurial expectations of a tenure and promotion (T&P) committee? \nIn this talk\, I reflect on choices made over my three-decade career\, including two decades at Northeastern\, where my research evolved from pure scholarship to one deeply focused on market transition—ultimately leading to a successful spin-out company founded 17 years ago. I will discuss the challenges of bootstrapping a start-up versus pursuing venture capital funding\, and the unique satisfaction that comes from building a company from the ground up. \nMuch of this work was—and continues to be—performed at Northeastern\, with many of the start-up’s employees being former students. The science and engineering behind it sit at the intersection of physics\, chemistry\, materials science\, and RF engineering. \nI will attempt to satisfy the audience’s appetite in S&T by reviewing some of the meaningful contributions made by my students that have been commercialized and impacted society. \n\nVince Harris has built a distinguished career spanning more than 35 years at the intersection of science\, technology\, leadership\, and national security. He has served in diverse roles\, including engineer and physicist; innovator and inventor; mentor and educator; entrepreneur and CEO; Department of Defense branch chief; Department of State policy expert; and global defense teaming lead. \nHis expertise lies in advanced multifunctional materials and RF electronics\, with pioneering contributions to magnetism\, magnetoceramics\, RF device physics\, and novel RF systems. His work has shaped technologies ranging from handheld communication devices to advanced radar platforms\, as well as permanent magnet materials critical to defense and national security. \nIn 2025\, Harris was recognized as the world’s leading researcher in the modern history of ferrites\, ranked first among more than 28\,500 scientists worldwide. His scholarly impact has earned him Fellow status in numerous professional societies\, including AAAS\, APS\, IEEE\, NAI\, the UK Institute of Physics\, and AIIA\, and he has been honored as both a Fulbright Fellow and a Jefferson Science Fellow. His contributions have further been recognized with some of the field’s most prestigious awards\, including the W. David Kingery Award and Edward C. Henry Award from the American Ceramics Society\, the Distinguished Scientist Award from The Minerals\, Metals and Materials Society\, the Lee Hsun Scholar Award and Lectureship from the Chinese Academy of Sciences\, and designation as an IEEE Distinguished Lecturer in RF Applications of Magnetoceramics.
URL:https://che.northeastern.edu/event/chemical-engineering-fall-seminar-series-vincent-g-harris/
END:VEVENT
BEGIN:VEVENT
DTSTART;TZID=America/New_York:20251014T120000
DTEND;TZID=America/New_York:20251014T130000
DTSTAMP:20260425T231439
CREATED:20251010T185529Z
LAST-MODIFIED:20251010T185529Z
UID:5810-1760443200-1760446800@che.northeastern.edu
SUMMARY:ChemE Department Town Hall
DESCRIPTION:Join Chair and Professor Rebecca Willits of the Chemical Engineering Department at 168 Snell Engineering Center as she provides updates and information about classes and the Department of Chemical Engineering.
URL:https://che.northeastern.edu/event/cheme-department-town-hall-2/
LOCATION:168 SN\, 360 Huntington Ave\, Boston\, MA\, 02115\, United States
END:VEVENT
BEGIN:VEVENT
DTSTART;TZID=America/New_York:20251022T120000
DTEND;TZID=America/New_York:20251022T130000
DTSTAMP:20260425T231439
CREATED:20251003T234228Z
LAST-MODIFIED:20251003T234228Z
UID:5767-1761134400-1761138000@che.northeastern.edu
SUMMARY:Chemical Engineering Fall Seminar Series: William Doherty
DESCRIPTION:Seminar Title: Stimulating Excitable Cells with Optosomes: Development of a Non-viral Cell Derived Vesicle Capable of Stimulating Excitable Cells in Response to Light Stimulus \nLocation: 108 Snell Engineering Center \nAbstract: For years\, researchers have studied and developed neuromodulation techniques meant to stimulate and/or inhibit excitable cells both in research and clinical settings. A method to excite cells with light\, termed Optogenetics\, has been researched extensively since its discovery in the early 2000’s. A major constraint of Optogenetics is the expression of the necessary light-gated ion channels most often achieved using a viral vector. While this is not overly concerning in research settings\, clinical applications of optogenetics have been slow to develop as the use of viral vectors in humans presents challenges regarding safety. Additionally\, foreign opsin genes are believed to be a permanent addition to the transfected cells. \nThis dissertation aimed to develop Optosomes; a cell-derived vesicle containing excitatory opsin that couples with excitable cells via Gap-Junctions that conduct the stimulus current from the opsin into the cell. Initial production of Optosomes followed established protocols for producing Giant Plasma Membrane Vesicles (GPMVs) in which small volumes of cytoplasm are encapsulated in a piece of the cell’s plasma membrane. The number of GPMVs produced varied with pH\, cell confluency\, and base medium having a noticeable impact on the number of GPMVs generated. Optosome production required the creation of a stable cell line expressing Channelrhodopsin-2 (ChR2) and connexin-43 (Cx43) proteins required to form Gap-Junctions. Two separate transfections in the series generated a ChR2-Cx43 Hek293 cell line capable of producing Optosomes at a high concentration. Finally\, a mathematical model was built to simulate Optosome stimulation of excitable cells and how changes in the size of Optosomes and cells affect the strength of stimulus generated. The result of these simulations and attempts to stimulate neonatal Cardiomyocytes (CM) in vitro confirmed that the majority of Optosomes produced were too small to generate a stimulus capable of exciting CMs. Production of Optosomes with larger diameters or the use of a different strand of ChR2 is needed to increase the number of Optosomes able to stimulate CMs will be needed moving forward. \nThe results of this dissertation provide the foundation for developing Optosomes as an alternative approach to stimulating excitable cells with light. \n\nAfter spending nearly two years working on the development of a new automated Biomanufacturing system in the Love Lab\, Bill was accepted and enrolled in the PhD program for Chemical Engineering. After finding his home for the next 7 years in the Koppes Lab\, he got to work both on forming his thesis and integrating into the community at Northeastern. In pursuing his Ph. D\, he had started to appreciate how applying mathematical modeling techniques to biological systems offers a whole new perspective when trying to understand the complex innerworkings of the human body. It offered a nice juxtaposition to the time spent in lab running hands on experiments that are less about math and academic prowess and more about technique\, adaptability\, and problem solving in real time. Bill has sed the better part of his twenties working in Research and its why he was so eager to pursue a Ph D as he hopes to work his way into scientist positions overseeing research and development projects. Still residing in Boston\, he hopes to find a position in the New England Area after submitting his Dissertation; staying close to family and friends in the area.
URL:https://che.northeastern.edu/event/chemical-engineering-fall-seminar-series-william-doherty/
END:VEVENT
BEGIN:VEVENT
DTSTART;TZID=America/New_York:20251029T120000
DTEND;TZID=America/New_York:20251029T130000
DTSTAMP:20260425T231439
CREATED:20250917T003526Z
LAST-MODIFIED:20251003T232942Z
UID:5745-1761739200-1761742800@che.northeastern.edu
SUMMARY:Chemical Engineering Fall Seminar Series: Zhiyong Gu
DESCRIPTION:Seminar Title: Developing Soldering Nanomaterials for Advanced Materials Joining and Bonding \nLocation: 108 Snell Engineering Center \nAbstract: Joining and bonding methods are not only necessary\, but also quite often critical in materials forming and electronic device manufacturing processes. Among various joining methods\, soldering is one of the most widely used ones\, due to its electrical conductivity and mechanical reliability\, which makes it widely used in a variety of applications such as electronics\, sensors\, transportation vehicles\, and biomedical devices. In this presentation\, I will show the synthesis and development of soldering-driven nanomaterials\, including both nanoparticles and nanowires\, for a variety of micro/nanoscale bonding and joining applications: (1) low-temperature lead-free nanosolders have been synthesized and applied for Cu-Cu joining and bonding; (2) site-selective core/shell and multi-segment nanowires have been synthesized by a combined electrodeposition and chemical reduction method\, which can be aligned and assembled by external force field such as magnetic field or electrical field\, before subsequent soldering. These nanoparticles and nanowires\, and the associated nano-soldering techniques\, have shown great promise in the assembly and construction of functional nanoelectronics and nanodevices. \n\n Dr. Zhiyong Gu is currently a Professor and Chair of the Department of Chemical Engineering at the University of Massachusetts Lowell. He received his Ph.D. from the State University of New York at Buffalo in 2004\, and worked as a Postdoctoral Fellow in the Department of Chemical and Biomolecular Engineering at the Johns Hopkins University from 2004 to 2006. In September 2006\, he joined UMass Lowell as an Assistant Professor\, was promoted to Associate Professor with Tenure in September 2012\, and then promoted to Full Professor in September 2017. He served as the Graduate Coordinator and then Associate Chair from 2012 to 2023. His research interests include synthesis of nanoparticles and nanowires\, lead-free nanosolders\, self-assembly\, nanocomposite materials\, and nanoscale joining and packaging for electronics\, sensors\, and biomedical applications. He has published 5 book chapters and over 80 peer-reviewed journal papers\, and contributed to over 200 conference presentations. He received the 3M Non-Tenured Faculty Award in 2010\, Department Teaching Excellence Award in 2011\, US EPA People\, Prosperity and the Planet (P3) Award in 2015\, and Outstanding Mentoring of Undergraduate Students Award in 2018. He is currently an Associate Editor for the Journal of Nanoparticle Research\, served as an Associate Editor for the Journal of Electronic Materials from 2015 to 2020\, and served on the Editorial Advisory Board of several other journals.
URL:https://che.northeastern.edu/event/chemical-engineering-fall-seminar-series-zhiyong-gu/
END:VEVENT
END:VCALENDAR