BEGIN:VCALENDAR
VERSION:2.0
PRODID:-//Department of Chemical Engineering - ECPv6.15.18//NONSGML v1.0//EN
CALSCALE:GREGORIAN
METHOD:PUBLISH
X-WR-CALNAME:Department of Chemical Engineering
X-ORIGINAL-URL:https://che.northeastern.edu
X-WR-CALDESC:Events for Department of Chemical Engineering
REFRESH-INTERVAL;VALUE=DURATION:PT1H
X-Robots-Tag:noindex
X-PUBLISHED-TTL:PT1H
BEGIN:VTIMEZONE
TZID:America/New_York
BEGIN:DAYLIGHT
TZOFFSETFROM:-0500
TZOFFSETTO:-0400
TZNAME:EDT
DTSTART:20200308T070000
END:DAYLIGHT
BEGIN:STANDARD
TZOFFSETFROM:-0400
TZOFFSETTO:-0500
TZNAME:EST
DTSTART:20201101T060000
END:STANDARD
BEGIN:DAYLIGHT
TZOFFSETFROM:-0500
TZOFFSETTO:-0400
TZNAME:EDT
DTSTART:20210314T070000
END:DAYLIGHT
BEGIN:STANDARD
TZOFFSETFROM:-0400
TZOFFSETTO:-0500
TZNAME:EST
DTSTART:20211107T060000
END:STANDARD
BEGIN:DAYLIGHT
TZOFFSETFROM:-0500
TZOFFSETTO:-0400
TZNAME:EDT
DTSTART:20220313T070000
END:DAYLIGHT
BEGIN:STANDARD
TZOFFSETFROM:-0400
TZOFFSETTO:-0500
TZNAME:EST
DTSTART:20221106T060000
END:STANDARD
END:VTIMEZONE
BEGIN:VEVENT
DTSTART;TZID=America/New_York:20211201T080000
DTEND;TZID=America/New_York:20211201T090000
DTSTAMP:20260419T171655
CREATED:20211118T211129Z
LAST-MODIFIED:20211118T211129Z
UID:3870-1638345600-1638349200@che.northeastern.edu
SUMMARY:Learn about the Co-op Program (Disciplinary) Webinar
DESCRIPTION:Please join our Assistant Dean of Co-op at a webinar discussing the Co-op experiential learning opportunities available for graduate students in the departments of Bioengineering\, Chemical Engineering\, Civil & Environmental Engineering\, Electrical & Computer Engineering\, and Mechanical & Industrial Engineering. \nRegister
URL:https://che.northeastern.edu/event/learn-about-the-co-op-program-disciplinary-webinar/
END:VEVENT
BEGIN:VEVENT
DTSTART;TZID=America/New_York:20211201T120000
DTEND;TZID=America/New_York:20211201T130000
DTSTAMP:20260419T171655
CREATED:20211124T023858Z
LAST-MODIFIED:20211124T023858Z
UID:3872-1638360000-1638363600@che.northeastern.edu
SUMMARY:ChE Seminar Series: Orchestrating Cellular Regeneration at Organ Scale
DESCRIPTION:ChE Seminar Series Presents: \nYvon Woappi\, Ph.D. \nK99/R00 MOSAIC Fellow at Harvard Medical School\, Brigham and Women’s Hospital \nAbstract \nLarge scale tissue damage\, such as organ failure and burn injury\, is a leading cause of morbidity and death. However\, the mechanisms underlying full regeneration of organs remain poorly understood. As the largest organ system in the body\, the integumentary system is a composite tissue evolutionarily adapted for healing. Consequently\, its complex physiology requires multifaceted cooperation between several distinct cell populations and cell lineages of embryologically distinct origins. Equally integrated within this dynamic process is local immune response that produces mitogenic and inhibitory signals throughout the restoration procedure. There remains a significant gap in understanding how these processes are orchestrated\, and how various skin cell populations from distinct developmental lineages functionally cooperate to regenerate tissue at organ scale. My research seeks to characterize the molecular language of tissue healing and to harness this malleable dialect for the regeneration of mammalian tissues. Through the development of organoid models of wound regeneration\, and the coupling of these systems with novel gene-editing approaches\, my work is enabling the functional understanding of the multifaceted cellular events executed throughout restorative healing. This seminar will describe these high throughput technologies and will illustrate their utility in identifying novel regulators of tissue healing. \nBio \nDr. Yvon Woappi’s passion for life sciences ignited during his childhood in Douala\, Cameroon and was magnified after his family immigrated to Hanover\, Pennsylvania during his middle school years. He went on to receive his B.S in Biology at the University of Pittsburgh\, and his Ph.D. in Biomedical Sciences as a Grace Jordan McFadden Fellow under Lucia Pirisi at the University of South Carolina. There\, he developed a 3D skin organoid system to study the relationship between epithelial regeneration and virus-induced neoplasia. He subsequently completed postdoctoral training in the Harvard Dermatology Research Training Program at Brigham and Women’s Hospital where he established novel in vivo gene editing systems to understand the contribution of distinct cell lineages in tissue regeneration and cancer. He was recipient of the 2019 Engineering the Genome Award\, and was later selected as a Rising Star in biomedical sciences and engineering by MIT\, Cornell\, BU and Columbia University. Most recently\, Dr. Woappi was awarded the NIH K99/R00 MOSAIC award to launch his independent research career. Away from the bench\, he is an ardent proponent of inclusive excellence and currently sits on the advisory committee for the NIH Continued Umbrella Research Experiences Program at Harvard Medical School.
URL:https://che.northeastern.edu/event/che-seminar-series-orchestrating-cellular-regeneration-at-organ-scale/
LOCATION:108 SN
END:VEVENT
BEGIN:VEVENT
DTSTART;TZID=America/New_York:20211208T120000
DTEND;TZID=America/New_York:20211208T130000
DTSTAMP:20260419T171655
CREATED:20211202T021738Z
LAST-MODIFIED:20211202T021738Z
UID:3880-1638964800-1638968400@che.northeastern.edu
SUMMARY:ChE Seminar Series: Catalytic Oxidation of Methane\, the “Other” Greenhouse Gas
DESCRIPTION:ChE Seminar Series Presents: \nDr. Michael Harold \nDepartment of Chemical & Biomolecular Engineering\, University of Houston \nAbstract: \nThe abundant domestic natural gas resources has motivated the accelerated development of natural gas powered vehicles and stationary engines.  With the primary constituent of abundant NG being methane (CH4)\, NG has a higher H:C ratio than gasoline or diesel and therefore its combustion produces less CO2.   However\, CH4 is itself a more potent greenhouse gas (GHG) than CO2 with a GHG potential about 85 times that of CO2. Uncombusted CH4 must be eliminated in order to clear the way for the growth in the NG engine market. Current state-of-the-art Platinum Group Metal (PGM) catalysts are ineffective in eliminating methane. Our research is focused on the study and development of a new class of cost effective structured catalysts with reduced PGM loadings for both stoichiometric and lean methane oxidation. For stoichiometric oxidation we show that the combination of spinel mixed metal oxide (AB2O4) addition and lean-rich feed modulation results in significant enhancement in the catalyst performance. Detailed study of feed modulation parameters (frequency\, amplitude)\, catalyst design (composition\, architecture) and spatiotemporal reactor features provide insight into and optimization of the underlying mechanism. The enhancement is attributed to the transient oxidation of methane conversion inhibitors CO and H2 by the spinel. Up to a 30% reduction in PGM loading is possible with negligible loss in performance. For lean oxidation we study and develop an in situ method to regenerate methane oxidation catalysts. Periodic reductant (H2\, CO) pulsing mitigates the detrimental water poisoning of Pd-Pt catalyst. The pulsing is able to regenerate the catalyst deactivated by water by removal of OH-groups from the catalysts surface\, but also promoted its activity after repeated application of pulsing for several hours. This state of high activity is stable for several hours under the tested lean conditions. \nBio: \nMike Harold is the Cullen Engineering Professor in the Department of Chemical and Biomolecular Engineering at the University of Houston.  With expertise in catalysis and reaction engineering\, Harold is the author of more than 180 peer-reviewed papers and book chapters and has given over 350 presentations and invited lectures.  Harold received his BS at Penn State and PhD from the University of Houston (UH).  He joined the faculty at University of Massachusetts at Amherst in 1985 where he became Associate Professor.  In 1993 Harold joined DuPont Company\, where he held technical and managerial positions.  In 2000 Harold became the Dow Chair Professor and Department Chair at UH\, a position he held for 16 years. Mike was appointed Editor-in-Chief of the AIChE Journal in 2012 and will soon end his 10 year term. His honors include the Excellence in Applied Catalysis from the Southwest Catalysis Society in 2019\, the Ester Farfel Award at UH in 2013\, and AIChE Fellow in 2014. \nPlease contact a.ramsey@northeastern.edu for the seminar link.
URL:https://che.northeastern.edu/event/che-seminar-series-catalytic-oxidation-of-methane-the-other-greenhouse-gas/
END:VEVENT
BEGIN:VEVENT
DTSTART;TZID=America/New_York:20211214T120000
DTEND;TZID=America/New_York:20211214T130000
DTSTAMP:20260419T171655
CREATED:20211207T203629Z
LAST-MODIFIED:20211207T203629Z
UID:3882-1639483200-1639486800@che.northeastern.edu
SUMMARY:CILS Seminar: arivis™\, Imaging Software
DESCRIPTION:Join this seminar to learn how to make microscopy image analysis more straightforward. An arivis™ representative will be presenting on topics such as image segmentation\, multiview registration\, storyboard\, colocalization\, and image processing (denoise\, decon\, etc).
URL:https://che.northeastern.edu/event/cils-seminar-arivis-imaging-software/
END:VEVENT
END:VCALENDAR