BEGIN:VCALENDAR
VERSION:2.0
PRODID:-//Department of Chemical Engineering - ECPv6.15.18//NONSGML v1.0//EN
CALSCALE:GREGORIAN
METHOD:PUBLISH
X-WR-CALNAME:Department of Chemical Engineering
X-ORIGINAL-URL:https://che.northeastern.edu
X-WR-CALDESC:Events for Department of Chemical Engineering
REFRESH-INTERVAL;VALUE=DURATION:PT1H
X-Robots-Tag:noindex
X-PUBLISHED-TTL:PT1H
BEGIN:VTIMEZONE
TZID:America/New_York
BEGIN:DAYLIGHT
TZOFFSETFROM:-0500
TZOFFSETTO:-0400
TZNAME:EDT
DTSTART:20250309T070000
END:DAYLIGHT
BEGIN:STANDARD
TZOFFSETFROM:-0400
TZOFFSETTO:-0500
TZNAME:EST
DTSTART:20251102T060000
END:STANDARD
BEGIN:DAYLIGHT
TZOFFSETFROM:-0500
TZOFFSETTO:-0400
TZNAME:EDT
DTSTART:20260308T070000
END:DAYLIGHT
BEGIN:STANDARD
TZOFFSETFROM:-0400
TZOFFSETTO:-0500
TZNAME:EST
DTSTART:20261101T060000
END:STANDARD
BEGIN:DAYLIGHT
TZOFFSETFROM:-0500
TZOFFSETTO:-0400
TZNAME:EDT
DTSTART:20270314T070000
END:DAYLIGHT
BEGIN:STANDARD
TZOFFSETFROM:-0400
TZOFFSETTO:-0500
TZNAME:EST
DTSTART:20271107T060000
END:STANDARD
END:VTIMEZONE
BEGIN:VEVENT
DTSTART;TZID=America/New_York:20260410T090000
DTEND;TZID=America/New_York:20260410T100000
DTSTAMP:20260421T062159
CREATED:20260310T181021Z
LAST-MODIFIED:20260310T181021Z
UID:5982-1775811600-1775815200@che.northeastern.edu
SUMMARY:Wonder Week: Chemical Engineering
DESCRIPTION:During Wonder Week\, you’ll have the chance to learn how the top-ranked Graduate School of Engineering at Northeastern University combines rigorous academics with experiential learning and convergent research. You’ll also see how our unique learning model better prepares the next generation of engineering leaders to address the complex challenges of global society. \nPrograms discussed include chemical engineering and pharmaceutical engineering.
URL:https://che.northeastern.edu/event/wonder-week-chemical-engineering/
LOCATION:Virtual
ORGANIZER;CN="Graduate School of Engineering":MAILTO:coe-gradadmissions@northeastern.edu
END:VEVENT
BEGIN:VEVENT
DTSTART;TZID=America/New_York:20260410T130000
DTEND;TZID=America/New_York:20260410T140000
DTSTAMP:20260421T062159
CREATED:20260408T203215Z
LAST-MODIFIED:20260408T203215Z
UID:6045-1775826000-1775829600@che.northeastern.edu
SUMMARY:ChE MS Thesis Defense: Austin Breed
DESCRIPTION:Name: Austin Breed \nTitle: Fabrication of Na-ion Intercalation Materials for Kinetic Energy Harvesting \nDate: 04/10/2026 \nTime: 01:00:00 PM \nCommittee Members:\nProf. Joshua Gallaway (Advisor)\nProf. Sanjeev Mukerjee\nProf. Magda Barecka\nEnock Nagelli\, PhD \nLocation: Snell Library 001 \nAbstract:\nThis work investigates ion-solvation switching as a mechanism for electrochemical kinetic energy harvesting (EKEH) in low-power\, confined environments\, motivated by the growing demand for sustainable energy sources for distributed electronics. Long-term stability\, confined area design\, and unsteady current output limit contemporary harvesting designs\, often hamstrung by material engineering shortfalls. Copper hexacyanoferrate (CuHCF) is a Prussian blue analogue (PBA) promising new active material under investigation in long-term storage and kinetic harvesting devices due to its face-centered cubic (FCC) structure conducive to ion-intercalation\, adequate theoretical capacity\, and stability comparative to traditional Prussian blue cathodes. However\, CuHCF still experiences notable capacity fade and mechanical degradation during prolonged exposure to aqueous electrolyte. This study fabricated copper CuHCF electrodes\, evaluated their structure using X-ray diffraction (XRD) and\, for varying fabrication parameters\, used electrochemical methods including electrochemical impedance spectroscopy (EIS)\, cyclic voltammetry (CV)\, and open-circuit potential (OCP) power cycles to benchmark performance and\ndurability impacts. \nResults confirm that CuHCF-based systems can reproduce switching potentials on the order of ~0.40 mV. Though consistent with prior reports\, this work demonstrated prolonged voltage saturation time\, highlighting evidence of kinetic and diffusional limitations. Material composition strongly influenced electrochemical performance\, where Fe(II)-rich CuHCF exhibited improved reversibility and reduced overpotentials\, suggesting enhanced charge-transfer kinetics and structural stability\, albeit with a modest reduction in capacity. Electrolyte concentration further impacted performance\, reinforcing its importance as a design parameter. Thermal annealing degraded electrochemical initial performance\, likely due to the loss of interstitial water and disruption of ion transport pathways. \nThis work elucidated the sensitivity of performance and stability to various fabrication parameters in Na-ion intercalation materials for this ion-solvation switching applications.\nFurthermore\, this study highlights key trade-offs between stability\, capacity\, and voltage saturation in CuHCF-based ion-solvation switching systems and identifies critical areas for improvement\, particularly in materials engineering and electrolyte optimization\, to enable practical implementation of next generation electrochemical energy harvesting technologies. Understanding the causal relationships between fabrication methods and these measured quantities will drive future work towards mitigating these failure modes and limitations. \n\nAustin Grant Breed\, BS\, EIT Austin is currently pursuing a Master of Science (MS) in Chemical Engineering at Northeastern University in Boston\, conducting research in the Gallaway Lab focused on electrochemical kinetic energy harvesting. He completed his undergraduate training in Chemical Engineering at the United States Military Academy at West Point. During his time at West Point\, he conducted research in hemorheology\, developing stochastic models of large amplitude oscillatory shear forces in human blood\, and participated in a waste-to-energy demonstration project involving synthetic gas production via rotary kiln gasification. He also interned at Lawrence Livermore National Laboratory\, where he analyzed the kinetic and aerodynamic effects of nanotechnology integrated into solid chemical propellants. Austin earned his EIT status in 2017. Prior to graduate school\, Austin served over seven years as a commissioned U.S. Army Aviation Officer\, accumulating approximately 750 flight hours across multiple rotary- and fixed-wing platforms including the CH-47F Chinook. His most recent military culminated in command of an aviation maintenance company in the 2-501st General Support Aviation Battalion at Fort Bliss\, where he oversaw maintenance operations for a 34-aircraft fleet and over 175 soldiers. He also served in several leadership roles supporting NATO deterrence operations in Europe and Korea. Austin’s service was recognized with the Meritorious Service Medal\, the Honorable Order of St. Michael\, and several other distinctions. Last year\, Austin served as a project lead at Storion Energy in Wilmington\, MA\, directing the development and assessment of a novel continuous vanadium electrolyte production process — work that also forms the basis of his thesis defense through Northeastern University’s Gordon Institute of Engineering Leadership fellowship. After completing his MS\, Austin plans to continue working towards his PhD in chemical engineering with the Gallaway Lab while instructing within the chemical engineering department at West Point.
URL:https://che.northeastern.edu/event/che-ms-thesis-defense-austin-breed/
END:VEVENT
END:VCALENDAR