BEGIN:VCALENDAR
VERSION:2.0
PRODID:-//Department of Chemical Engineering - ECPv6.15.18//NONSGML v1.0//EN
CALSCALE:GREGORIAN
METHOD:PUBLISH
X-ORIGINAL-URL:https://che.northeastern.edu
X-WR-CALDESC:Events for Department of Chemical Engineering
REFRESH-INTERVAL;VALUE=DURATION:PT1H
X-Robots-Tag:noindex
X-PUBLISHED-TTL:PT1H
BEGIN:VTIMEZONE
TZID:America/New_York
BEGIN:DAYLIGHT
TZOFFSETFROM:-0500
TZOFFSETTO:-0400
TZNAME:EDT
DTSTART:20250309T070000
END:DAYLIGHT
BEGIN:STANDARD
TZOFFSETFROM:-0400
TZOFFSETTO:-0500
TZNAME:EST
DTSTART:20251102T060000
END:STANDARD
BEGIN:DAYLIGHT
TZOFFSETFROM:-0500
TZOFFSETTO:-0400
TZNAME:EDT
DTSTART:20260308T070000
END:DAYLIGHT
BEGIN:STANDARD
TZOFFSETFROM:-0400
TZOFFSETTO:-0500
TZNAME:EST
DTSTART:20261101T060000
END:STANDARD
BEGIN:DAYLIGHT
TZOFFSETFROM:-0500
TZOFFSETTO:-0400
TZNAME:EDT
DTSTART:20270314T070000
END:DAYLIGHT
BEGIN:STANDARD
TZOFFSETFROM:-0400
TZOFFSETTO:-0500
TZNAME:EST
DTSTART:20271107T060000
END:STANDARD
END:VTIMEZONE
BEGIN:VEVENT
DTSTART;TZID=America/New_York:20260408T120000
DTEND;TZID=America/New_York:20260408T130000
DTSTAMP:20260421T062138
CREATED:20260324T190936Z
LAST-MODIFIED:20260324T190936Z
UID:6023-1775649600-1775653200@che.northeastern.edu
SUMMARY:ChE MS Thesis Defense: Sofia Roger
DESCRIPTION:Name: Sofia Roger \nTitle: Development and Evaluation of Learning Tool for a Global Review of Mineral Commodities \nDate: 04/08/2026 \nTime: 12:00:00 PM \nCommittee Members:\nProf. Luke Landherr (Advisor)\nProf. Joshua Gallaway\nProf. Alexis Prybutok \nLocation: Ryder 205 \nAbstract:\nEngineering is a highly collaborative\, intersectional practice that depends on transforming raw materials. Despite this relationship\, it is difficult to explain how engineers’ decisions in industrial settings affect the rest of the world. The consequences of sourcing materials for technological advancement may not always be explicit. The effects of engineers consuming material can have cascading consequences or be so removed that they fall outside design concerns. To promote discussion of the socioeconomic effects of raw material consumption in engineering\, this work aimed to develop a website-based learning tool\, www.wherematerialscomefrom.com. The tool provides context on the mining processes used to obtain raw materials. Through survey data collection\, the tool was evaluated for its ability to help users understand how raw materials are acquired. \n\nSofia Roger completed her Bachelor of Science in Chemical Engineering from Northeastern University and has since decided to pursue her master’s also in Chemical Engineering as part of Northeastern’s plus one program. She completed two co-ops\, during which she participated in the research and design of solid-state sulfur-chalcogen batteries at Avanti Battery Co. and the development of conductive ceramic for high-temperature reactor design at Lydian Labs. Her experience in materials engineering for sustainable technology motivated her to explore which environmentally sound raw materials can be used to innovate. This motivation gave rise to the educational tool developed in her thesis work.
URL:https://che.northeastern.edu/event/che-ms-thesis-defense-sofia-roger/
END:VEVENT
END:VCALENDAR