BEGIN:VCALENDAR
VERSION:2.0
PRODID:-//Department of Chemical Engineering - ECPv6.15.18//NONSGML v1.0//EN
CALSCALE:GREGORIAN
METHOD:PUBLISH
X-ORIGINAL-URL:https://che.northeastern.edu
X-WR-CALDESC:Events for Department of Chemical Engineering
REFRESH-INTERVAL;VALUE=DURATION:PT1H
X-Robots-Tag:noindex
X-PUBLISHED-TTL:PT1H
BEGIN:VTIMEZONE
TZID:America/New_York
BEGIN:DAYLIGHT
TZOFFSETFROM:-0500
TZOFFSETTO:-0400
TZNAME:EDT
DTSTART:20250309T070000
END:DAYLIGHT
BEGIN:STANDARD
TZOFFSETFROM:-0400
TZOFFSETTO:-0500
TZNAME:EST
DTSTART:20251102T060000
END:STANDARD
BEGIN:DAYLIGHT
TZOFFSETFROM:-0500
TZOFFSETTO:-0400
TZNAME:EDT
DTSTART:20260308T070000
END:DAYLIGHT
BEGIN:STANDARD
TZOFFSETFROM:-0400
TZOFFSETTO:-0500
TZNAME:EST
DTSTART:20261101T060000
END:STANDARD
BEGIN:DAYLIGHT
TZOFFSETFROM:-0500
TZOFFSETTO:-0400
TZNAME:EDT
DTSTART:20270314T070000
END:DAYLIGHT
BEGIN:STANDARD
TZOFFSETFROM:-0400
TZOFFSETTO:-0500
TZNAME:EST
DTSTART:20271107T060000
END:STANDARD
END:VTIMEZONE
BEGIN:VEVENT
DTSTART;TZID=America/New_York:20260316T120000
DTEND;TZID=America/New_York:20260316T140000
DTSTAMP:20260422T000832
CREATED:20260310T213217Z
LAST-MODIFIED:20260310T213217Z
UID:5997-1773662400-1773669600@che.northeastern.edu
SUMMARY:ChE PhD Dissertation Defense: Bryan Schellberg
DESCRIPTION:Name:\nBryan Schellberg \nTitle:\nA Robust\, Scalable\, and User-Friendly Organ-Chip Platform for Automated\, Spatiotemporal Characterization of Living Cell Culture Conditions \nDate:\n03/16/2026 \nTime:\n12:00:00 PM \nCommittee Members:\nProf. Abigail Koppes (Advisor)\nProf. Ryan Koppes (Advisor)\nProf. Allison Dennis\nProf. Samuel Chung \nLocation:\nHastings 113 \nAbstract:\nOrgan-chips\, or microphysiological devices (MPSs) are an emergent technology that bridges the gap between current in vitro and in vivo models used in biomedical research. To address the technological gaps associated with current options\, MPS models have been engineered to integrate three-dimensional tissue architectures in vitro to recapitulate organ-specific function. These systems offer improved bio-relevance and controlled complexity via integration induced pluripotent stem cell (iPSC) lines\, physical and chemical stimulation\, and biomimetic extracellular matrices. Although significant advancements have been made toward recreating organ-specific physiology on-chip\, the methods available to study the structure and function of the cell microenvironment are still limited. This work developed\, validated\, and applied a technology platform for characterizing the state of the cellular microenvironment on chip. \nA fiber-optic-based sensing platform was engineered and validated to non­invasively sense luminescence from MPS devices. The optical setup delivered excitation light via fiber-coupled LEDs and recorded luminophore emission to a monochrome camera. Linking a microcontroller enabled automated image capture for remote data acquisition and characterization of the on-chip cellular microenvironment. Addition of multi-fiber bundles permitted spatiotemporal data acquisition for whole-chip monitoring. This fiber-optic-based sensing platform provides a starting point for significant improvements to real-time interrogation of on-chip structure and function. \nWe applied our sensing platform to a previously validated MPS model of intestinal barrier function to confirm efficacy and reliability. Caco-2 epithelial cells were cultured in our established MPS and subjected to a cocktail of pro-inflammatory cytokines to disrupt barrier function. MPSs dosed with the cytokines showed significantly decreased barrier function\, as monitored by our fiber optic sensing platform. \nIntegration of MPS sensing with automation tools is essential to bridge the academic-industrial gap for broad use of these devices. Here\, we coupled our fiber­optic-based sensing system with a fluid handling robot and motorized programmable microscope stage. With these tools\, we demonstrated automated culture and monitoring of iPSC-derived cardiomyocyte beat rate\, providing a blueprint for high-throughput MPS sensing. \nIn summary\, this thesis outlines tools and techniques that may be used to design\, build\, validate\, and apply optical sensing approaches for rich\, real-time\, and high­throughput data acquisition from MPS devices. \n\nBryan Schellberg is a 5th year PhD Candidate in Chemical Engineering at Northeastern University. He will graduate in March 2026 with his thesis defense titled “A Robust\, Scalable\, and User-Friendly Organ-Chip Platform for Automated\, Spatiotemporal Characterization of Living Cell Culture Conditions.” Bryan’s work focuses on the intersection of biology and technology to build improved sensing approaches for applications in human pathophysiology and novel drug development. Throughout his time at Northeastern\, Bryan has engineered\, validated\, and applied a fiber-optic-based sensing platform for real-time\, high-throughput data collection from organ-on-a-chip systems. As a result from this work\, he has submitted a patent application for the technology developed\, two first-author publications\, and submitted an additional co-first author manuscript for review. In the short-term\, Bryan looks forward to applying his expertise to the private sector to aid in the development of disruptive technologies to overhaul the current drug discovery pipeline.
URL:https://che.northeastern.edu/event/che-phd-dissertation-defense-bryan-schellberg/
END:VEVENT
END:VCALENDAR