BEGIN:VCALENDAR
VERSION:2.0
PRODID:-//Department of Chemical Engineering - ECPv6.15.20//NONSGML v1.0//EN
CALSCALE:GREGORIAN
METHOD:PUBLISH
X-ORIGINAL-URL:https://che.northeastern.edu
X-WR-CALDESC:Events for Department of Chemical Engineering
REFRESH-INTERVAL;VALUE=DURATION:PT1H
X-Robots-Tag:noindex
X-PUBLISHED-TTL:PT1H
BEGIN:VTIMEZONE
TZID:America/New_York
BEGIN:DAYLIGHT
TZOFFSETFROM:-0500
TZOFFSETTO:-0400
TZNAME:EDT
DTSTART:20240310T070000
END:DAYLIGHT
BEGIN:STANDARD
TZOFFSETFROM:-0400
TZOFFSETTO:-0500
TZNAME:EST
DTSTART:20241103T060000
END:STANDARD
BEGIN:DAYLIGHT
TZOFFSETFROM:-0500
TZOFFSETTO:-0400
TZNAME:EDT
DTSTART:20250309T070000
END:DAYLIGHT
BEGIN:STANDARD
TZOFFSETFROM:-0400
TZOFFSETTO:-0500
TZNAME:EST
DTSTART:20251102T060000
END:STANDARD
BEGIN:DAYLIGHT
TZOFFSETFROM:-0500
TZOFFSETTO:-0400
TZNAME:EDT
DTSTART:20260308T070000
END:DAYLIGHT
BEGIN:STANDARD
TZOFFSETFROM:-0400
TZOFFSETTO:-0500
TZNAME:EST
DTSTART:20261101T060000
END:STANDARD
END:VTIMEZONE
BEGIN:VEVENT
DTSTART;TZID=America/New_York:20251204T143000
DTEND;TZID=America/New_York:20251204T180000
DTSTAMP:20260425T095011
CREATED:20251117T194415Z
LAST-MODIFIED:20251203T014440Z
UID:5864-1764858600-1764871200@che.northeastern.edu
SUMMARY:Chemical Engineering Research Showcase
DESCRIPTION:Join us for our Annual Chemical Engineering Research Showcase in the Raytheon Ampitheater! Every year\, our Chemical Engineering PhD students and select faculty members present their work through Oral Presentations\, Poster Sessions\, and 5-minute Presentations. This year\, the Capstone and Professional Development classes will also be presenting their posters as part of the event. All are welcome to attend.
URL:https://che.northeastern.edu/event/chemical-engineering-research-showcase-2/
LOCATION:Raytheon Amphitheater (240 Egan)\, 360 Huntington Ave\, 240 Egan\, Boston\, MA\, 02115\, United States
END:VEVENT
END:VCALENDAR