BEGIN:VCALENDAR
VERSION:2.0
PRODID:-//Department of Chemical Engineering - ECPv6.15.20//NONSGML v1.0//EN
CALSCALE:GREGORIAN
METHOD:PUBLISH
X-WR-CALNAME:Department of Chemical Engineering
X-ORIGINAL-URL:https://che.northeastern.edu
X-WR-CALDESC:Events for Department of Chemical Engineering
REFRESH-INTERVAL;VALUE=DURATION:PT1H
X-Robots-Tag:noindex
X-PUBLISHED-TTL:PT1H
BEGIN:VTIMEZONE
TZID:America/New_York
BEGIN:DAYLIGHT
TZOFFSETFROM:-0500
TZOFFSETTO:-0400
TZNAME:EDT
DTSTART:20240310T070000
END:DAYLIGHT
BEGIN:STANDARD
TZOFFSETFROM:-0400
TZOFFSETTO:-0500
TZNAME:EST
DTSTART:20241103T060000
END:STANDARD
BEGIN:DAYLIGHT
TZOFFSETFROM:-0500
TZOFFSETTO:-0400
TZNAME:EDT
DTSTART:20250309T070000
END:DAYLIGHT
BEGIN:STANDARD
TZOFFSETFROM:-0400
TZOFFSETTO:-0500
TZNAME:EST
DTSTART:20251102T060000
END:STANDARD
BEGIN:DAYLIGHT
TZOFFSETFROM:-0500
TZOFFSETTO:-0400
TZNAME:EDT
DTSTART:20260308T070000
END:DAYLIGHT
BEGIN:STANDARD
TZOFFSETFROM:-0400
TZOFFSETTO:-0500
TZNAME:EST
DTSTART:20261101T060000
END:STANDARD
END:VTIMEZONE
BEGIN:VEVENT
DTSTART;TZID=America/New_York:20251124T100000
DTEND;TZID=America/New_York:20251124T133000
DTSTAMP:20260425T093122
CREATED:20251114T203718Z
LAST-MODIFIED:20251114T203718Z
UID:5857-1763978400-1763991000@che.northeastern.edu
SUMMARY:ChE PhD Dissertation Defense: Su Sun
DESCRIPTION:Name:\nSu Sun \nTitle:\nToward Automated Reaction Mechanism Generation for Electrocatalytic CO2 Conversion\, Boron Nitride CVD\, and Beyond \nDate:\n11/24/2025 \nTime:\n10:00:00 AM \nCommittee Members:\nProf. Richard West (Advisor)\nProf. Francisco Hung\nProf. Qing Zhao\nProf. Peter Schindler\nDr. Harsha K. Chelliah \nLocation:\n157 Ryder Hall \nAbstract:\nThe advancement of sustainable energy and advanced material deposition technologies relies on a deep mechanistic understanding of chemical reactions governing electrochemical and heterogeneous catalysis processes. Computational modeling offers a powerful means to accelerate the design and optimization of these systems. However\, constructing detailed reaction mechanisms by manually enumerating all possible pathways is laborious and error-prone\, as comprehensive models can involve hundreds of chemical species and thousands of elementary reactions. In this dissertation\, I present advances toward automated reaction mechanism generation and simulation for complex chemical systems\, focusing on (i) electrocatalytic carbon dioxide reduction (CO2RR)\, (ii) chemical vapor deposition (CVD) of boron nitride (BN)\, and (iii) the development of a modern MATLAB interface for Cantera that links automated mechanism generation with process-level modeling tools.\nBuilding upon the Reaction Mechanism Generator (RMG) framework and prior methodological developments for electrochemical kinetics\, I developed and modernized a prototype RMGElectrocat implementation that can automatically generate detailed mechanisms for CO2RR. I implemented a transport-coupled reactor interface\, in collaboration with colleagues\, to connect surface and solution-phase chemistry with mass transport at the electrode–electrolyte interface. I integrated ab initio thermochemical and kinetic parameters provided by collaborators into the RMG database\, and I introduced the first bimetallic catalyst surface\, Cu3Sn\, into RMG. Using these capabilities\, I constructed a comprehensive “Grand Model” for CO2RR on Ag\, Cu\, and Cu3Sn surfaces\, which includes 296 unique species and 1\,322 reactions\, among them 79 protoncoupled electron-transfer (PCET) steps. I performed Faradaic efficiency (FE) analyses to evaluate model predictions against experimental data and to identify key mechanistic pathways leading to C1–C4 products. Through this work\, I established a practical\, extensible workflow for automated generation and quantitative evaluation of electrochemical reaction mechanisms.\nTo extend automated mechanism generation toward materials synthesis\, I carried out preparatory work for BN CVD using RMG. I expanded the RMG database to include boron and Group III atom types and the associated functionalities required to describe B–N–H–Cl chemistry. I performed targeted ab initio calculations on key precursors and intermediates to benchmark quantumchemical methods for boron-containing species\, and conducted a preliminary group-additivity-value (GAV) fitting into the RMG database. I then generated a prototype gas-phase BN mechanism with 29 species and 101 reactions and conducted a proof-of-concept CVD reactor simulation to demonstrate its viability. These efforts established a foundation for future automated construction of detailed BN CVD mechanisms and illustrated the adaptability of RMG to emerging thin-film materials systems.\nFinally\, I developed a modern MATLAB interface for Cantera\, enabling robust and user-friendly access to advanced chemical-kinetics\, thermodynamics\, and transport models directly withinMATLAB. I built the interface usingMATLAB’s clibgen infrastructure to provide an objectoriented\, memory-safe API that maps directly onto Cantera’s application binary interface (ABI). I implemented automated build workflows and created a comprehensive suite of MATLAB Live Script tutorials to support educational and research use. This interface connects mechanisms generated by RMG with detailed reactor and process modeling in Cantera\, bridging automated mechanism generation with engineering analysis and simulation.
URL:https://che.northeastern.edu/event/che-phd-dissertation-defense-su-sun/
END:VEVENT
END:VCALENDAR