BEGIN:VCALENDAR
VERSION:2.0
PRODID:-//Department of Chemical Engineering - ECPv6.15.20//NONSGML v1.0//EN
CALSCALE:GREGORIAN
METHOD:PUBLISH
X-WR-CALNAME:Department of Chemical Engineering
X-ORIGINAL-URL:https://che.northeastern.edu
X-WR-CALDESC:Events for Department of Chemical Engineering
REFRESH-INTERVAL;VALUE=DURATION:PT1H
X-Robots-Tag:noindex
X-PUBLISHED-TTL:PT1H
BEGIN:VTIMEZONE
TZID:America/New_York
BEGIN:DAYLIGHT
TZOFFSETFROM:-0500
TZOFFSETTO:-0400
TZNAME:EDT
DTSTART:20210314T070000
END:DAYLIGHT
BEGIN:STANDARD
TZOFFSETFROM:-0400
TZOFFSETTO:-0500
TZNAME:EST
DTSTART:20211107T060000
END:STANDARD
BEGIN:DAYLIGHT
TZOFFSETFROM:-0500
TZOFFSETTO:-0400
TZNAME:EDT
DTSTART:20220313T070000
END:DAYLIGHT
BEGIN:STANDARD
TZOFFSETFROM:-0400
TZOFFSETTO:-0500
TZNAME:EST
DTSTART:20221106T060000
END:STANDARD
BEGIN:DAYLIGHT
TZOFFSETFROM:-0500
TZOFFSETTO:-0400
TZNAME:EDT
DTSTART:20230312T070000
END:DAYLIGHT
BEGIN:STANDARD
TZOFFSETFROM:-0400
TZOFFSETTO:-0500
TZNAME:EST
DTSTART:20231105T060000
END:STANDARD
END:VTIMEZONE
BEGIN:VEVENT
DTSTART;TZID=America/New_York:20220921T120000
DTEND;TZID=America/New_York:20220921T130000
DTSTAMP:20260423T165124
CREATED:20220913T235844Z
LAST-MODIFIED:20220913T235844Z
UID:4214-1663761600-1663765200@che.northeastern.edu
SUMMARY:Deep Learning Guided Electrified Interfacial Chemical Processes
DESCRIPTION:ChE Seminar Series Presents: \nDr. Fanglin Che\, Assistant Professor \nDepartment of Chemical Engineering\, University of Massachusetts Lowell \nAbstract:  \nThe usability and costly storage issues of renewable electricity from solar or wind energy become major challenges on a global scale due to the daily and seasonal variability of sunlight or wind and the geographic inequality of energy needs. A promising solution to address the above challenges lies in electrified modular chemical processes\, which provide a sustainable approach to store the solar and wind electrical energy chemically. Theoretically determining and quantifying the roles of electrified interfacial structure and field-dipole interactions on controlling the activity and selectivity of chemical processes and then integrating these roles to establish deep collaborations between machine learning and electrified interfacial chemical processes is crucial for rationally designing these electrified modular systems for energy storage and sustainable chemical production. This talk will focus on two examples\, one is organic-inorganic interface and its impact on electrocatalysis of carbon dioxide and the other one is field-dipole interaction effects on sustainable ammonia synthesis. \nBiography: \nDr. Fanglin Che joined in Chemical Engineering department at UMass Lowell as an Assistant Professor in September\, 2019. Dr. Che earned her Ph.D. in Chemical Engineering at Washington State University in December\, 2016\, under the advisement of Prof. Jean-Sabin McEwen. From 2017 to 2018\, she worked on electrocatalysis with Prof. Edward Sargent at University of Toronto as a Postdoctoral Researcher. From 2018 to 2019\, she worked on microwave heating as a Postdoctoral Researcher in the Department of Chemical and Biomolecular Engineering at University of Delaware in Prof. Dionisios G. Vlachos’s laboratory. The overarching goal of Dr. Che’s research at UMass Lowell is to advance the knowledge of electrified interfacial phenomena via building data-driven multi-scale and multi-physics computational models. A special focus is placed on electric field-induced chemistry\, electrocatalysis\, plasma catalysis\, and microwave catalysis. Her group is currently funded by NSF\, Navy\, and Army.
URL:https://che.northeastern.edu/event/deep-learning-guided-electrified-interfacial-chemical-processes/
LOCATION:236 Richards\, 360 Huntington Ave\, Boston\, MA\, 02115\, United States
END:VEVENT
END:VCALENDAR