BEGIN:VCALENDAR
VERSION:2.0
PRODID:-//Department of Chemical Engineering - ECPv6.15.18//NONSGML v1.0//EN
CALSCALE:GREGORIAN
METHOD:PUBLISH
X-WR-CALNAME:Department of Chemical Engineering
X-ORIGINAL-URL:https://che.northeastern.edu
X-WR-CALDESC:Events for Department of Chemical Engineering
REFRESH-INTERVAL;VALUE=DURATION:PT1H
X-Robots-Tag:noindex
X-PUBLISHED-TTL:PT1H
BEGIN:VTIMEZONE
TZID:America/New_York
BEGIN:DAYLIGHT
TZOFFSETFROM:-0500
TZOFFSETTO:-0400
TZNAME:EDT
DTSTART:20200308T070000
END:DAYLIGHT
BEGIN:STANDARD
TZOFFSETFROM:-0400
TZOFFSETTO:-0500
TZNAME:EST
DTSTART:20201101T060000
END:STANDARD
BEGIN:DAYLIGHT
TZOFFSETFROM:-0500
TZOFFSETTO:-0400
TZNAME:EDT
DTSTART:20210314T070000
END:DAYLIGHT
BEGIN:STANDARD
TZOFFSETFROM:-0400
TZOFFSETTO:-0500
TZNAME:EST
DTSTART:20211107T060000
END:STANDARD
BEGIN:DAYLIGHT
TZOFFSETFROM:-0500
TZOFFSETTO:-0400
TZNAME:EDT
DTSTART:20220313T070000
END:DAYLIGHT
BEGIN:STANDARD
TZOFFSETFROM:-0400
TZOFFSETTO:-0500
TZNAME:EST
DTSTART:20221106T060000
END:STANDARD
END:VTIMEZONE
BEGIN:VEVENT
DTSTART;TZID=America/New_York:20211208T120000
DTEND;TZID=America/New_York:20211208T130000
DTSTAMP:20260421T204820
CREATED:20211202T021738Z
LAST-MODIFIED:20211202T021738Z
UID:3880-1638964800-1638968400@che.northeastern.edu
SUMMARY:ChE Seminar Series: Catalytic Oxidation of Methane\, the “Other” Greenhouse Gas
DESCRIPTION:ChE Seminar Series Presents: \nDr. Michael Harold \nDepartment of Chemical & Biomolecular Engineering\, University of Houston \nAbstract: \nThe abundant domestic natural gas resources has motivated the accelerated development of natural gas powered vehicles and stationary engines.  With the primary constituent of abundant NG being methane (CH4)\, NG has a higher H:C ratio than gasoline or diesel and therefore its combustion produces less CO2.   However\, CH4 is itself a more potent greenhouse gas (GHG) than CO2 with a GHG potential about 85 times that of CO2. Uncombusted CH4 must be eliminated in order to clear the way for the growth in the NG engine market. Current state-of-the-art Platinum Group Metal (PGM) catalysts are ineffective in eliminating methane. Our research is focused on the study and development of a new class of cost effective structured catalysts with reduced PGM loadings for both stoichiometric and lean methane oxidation. For stoichiometric oxidation we show that the combination of spinel mixed metal oxide (AB2O4) addition and lean-rich feed modulation results in significant enhancement in the catalyst performance. Detailed study of feed modulation parameters (frequency\, amplitude)\, catalyst design (composition\, architecture) and spatiotemporal reactor features provide insight into and optimization of the underlying mechanism. The enhancement is attributed to the transient oxidation of methane conversion inhibitors CO and H2 by the spinel. Up to a 30% reduction in PGM loading is possible with negligible loss in performance. For lean oxidation we study and develop an in situ method to regenerate methane oxidation catalysts. Periodic reductant (H2\, CO) pulsing mitigates the detrimental water poisoning of Pd-Pt catalyst. The pulsing is able to regenerate the catalyst deactivated by water by removal of OH-groups from the catalysts surface\, but also promoted its activity after repeated application of pulsing for several hours. This state of high activity is stable for several hours under the tested lean conditions. \nBio: \nMike Harold is the Cullen Engineering Professor in the Department of Chemical and Biomolecular Engineering at the University of Houston.  With expertise in catalysis and reaction engineering\, Harold is the author of more than 180 peer-reviewed papers and book chapters and has given over 350 presentations and invited lectures.  Harold received his BS at Penn State and PhD from the University of Houston (UH).  He joined the faculty at University of Massachusetts at Amherst in 1985 where he became Associate Professor.  In 1993 Harold joined DuPont Company\, where he held technical and managerial positions.  In 2000 Harold became the Dow Chair Professor and Department Chair at UH\, a position he held for 16 years. Mike was appointed Editor-in-Chief of the AIChE Journal in 2012 and will soon end his 10 year term. His honors include the Excellence in Applied Catalysis from the Southwest Catalysis Society in 2019\, the Ester Farfel Award at UH in 2013\, and AIChE Fellow in 2014. \nPlease contact a.ramsey@northeastern.edu for the seminar link.
URL:https://che.northeastern.edu/event/che-seminar-series-catalytic-oxidation-of-methane-the-other-greenhouse-gas/
END:VEVENT
END:VCALENDAR